BEGIN:VCALENDAR
VERSION:2.0
PRODID:-//STADTKULTUR HAMBURG//kultur-hamburg.de///DE
CALSCALE:GREGORIAN
BEGIN:VEVENT
X-WR-TIMEZONE:Europe/Berlin
DTSTART:20190402T200000
DTEND:20190402T220000
LOCATION:Freizeitzentrum Schnelsen \, Wählingsallee 16 \, 22459 Hamburg
DTSTAMP:20260421T171831
SUMMARY:Unerhört Intim
URL;VALUE=URI:https://www.kultur-hamburg.de/veranstaltungen/unerhoert-intim-417946
DESCRIPTION:Eine Komödie von Leilah Assumpção

Unerhört intim und witzig sind die Gespräche, die Roberta und Mariano führen. Sie sind um die 50 als Mariano sich für eine Jüngere trennt. Doch die beiden kommen nicht voneinander los. Leilah Assumpção, die Grande Dame des brasilianischen Theaters, begleitet die beiden, die nicht unsichtbar werden wollen, bis sie über 90 sind. Roberta und Mariano haben Lust aufs Leben mit allem, was dazugehört. Und Sex gehört für beide auch im Alter auf jeden Fall dazu. Die bekannten Hamburger Schauspieler Renée Zalusky und Frank Meyer- Brockmann ziehen als leidenschaftlich streitendes, heftig liebendes Paar alle Register ihres darstellerischen Könnens. Ein höchst vergnüglicher Theaterabend, der mit großer Leichtigkeit und viel Humor manche (Lebens-) Lüge aufdeckt und mit Erkenntnissen über das Alter und die Liebe auch nachdenklich stimmt. Theater, das gekonnt die Schrecken des Lebens entschärft.
UID:087b0323f49f49ebcc2143387f2a825f@kulturhamburg
END:VEVENT
END:VCALENDAR