BEGIN:VCALENDAR
VERSION:2.0
PRODID:-//STADTKULTUR HAMBURG//kultur-hamburg.de///DE
CALSCALE:GREGORIAN
BEGIN:VEVENT
X-WR-TIMEZONE:Europe/Berlin
DTSTART:20190822T093000
DTEND:20190822T120000
LOCATION:
DTSTAMP:20260420T042721
SUMMARY:Das Klingende Mobil +++ AUSGEBUCHT!
URL;VALUE=URI:https://www.kultur-hamburg.de/veranstaltungen/das-klingende-mobil--ausgebucht!-419999
DESCRIPTION:Die Elbphilharmonie auf vier Rädern für Kita- und Vorschulgruppen
UID:1f58cee03cc28ac6a2f1b38d1d13b4c8@kulturhamburg
END:VEVENT
END:VCALENDAR