BEGIN:VCALENDAR
VERSION:2.0
PRODID:-//STADTKULTUR HAMBURG//kultur-hamburg.de///DE
CALSCALE:GREGORIAN
BEGIN:VEVENT
X-WR-TIMEZONE:Europe/Berlin
DTSTART:20190322T180000
DTEND:20190322T220000
LOCATION:W3_ \, Nernstweg 32-34 \, 22765 Hamburg
DTSTAMP:20260422T105849
SUMMARY:Konzert: HotSwingClub & Tornado Rosenberg Band
URL;VALUE=URI:https://www.kultur-hamburg.de/veranstaltungen/konzert-hotswingclub-&-tornado-rosenberg-band-420046
DESCRIPTION:Swing Musik à la Django Reinhardt der 20er und 30er, Flamenco aus Südfrankreich.
UID:40b1e344f4e5c3854307c2e3275afc3d@kulturhamburg
END:VEVENT
END:VCALENDAR