BEGIN:VCALENDAR
VERSION:2.0
PRODID:-//STADTKULTUR HAMBURG//kultur-hamburg.de///DE
CALSCALE:GREGORIAN
BEGIN:VEVENT
X-WR-TIMEZONE:Europe/Berlin
DTSTART:20190906T200000
DTEND:20190906T213000
LOCATION:Zinnschmelze \, Maurienstraße 19 \, 22305 Hamburg
DTSTAMP:20260423T051254
SUMMARY:Jazz in Schwarz und Weiss
URL;VALUE=URI:https://www.kultur-hamburg.de/veranstaltungen/jazz-in-schwarz-und-weiss-420068
DESCRIPTION:Der Schatz, von Georg Wilhelm Pabst, Deutschland 1923, Musik: Mirjam Keller(Klavier) und Hans-Christoph Hartmann (Saxophon)
UID:c62e6375cea0fd29337984e66ea1b955@kulturhamburg
END:VEVENT
END:VCALENDAR