BEGIN:VCALENDAR
VERSION:2.0
PRODID:-//STADTKULTUR HAMBURG//kultur-hamburg.de///DE
CALSCALE:GREGORIAN
BEGIN:VEVENT
X-WR-TIMEZONE:Europe/Berlin
DTSTART:20190905T190000
DTEND:20190905T210000
LOCATION:W3_ \, Nernstweg 32-34 \, 22765 Hamburg
DTSTAMP:20260423T032418
SUMMARY:No Future? Das Potential der Utopie
URL;VALUE=URI:https://www.kultur-hamburg.de/veranstaltungen/no-future-das-potential-der-utopie-420360
DESCRIPTION:Sind Utopien ein Realitätsverlust oder ein Möglichkeitsgewinn? Welches Potential steckt in utopischem Denken? Was ist Afrofuturismus und wie können queere Utopien bestehende Strukturen überwinden?
UID:36467375f417e337804375a127adbf07@kulturhamburg
END:VEVENT
END:VCALENDAR