BEGIN:VCALENDAR
VERSION:2.0
PRODID:-//STADTKULTUR HAMBURG//kultur-hamburg.de///DE
CALSCALE:GREGORIAN
BEGIN:VEVENT
X-WR-TIMEZONE:Europe/Berlin
DTSTART:20190917T200000
DTEND:20190917T220000
LOCATION:W3 - Werkstatt für internationale Kultur und Politik e.V. - Veranstaltung im Lichtmeß-Kino \, Gaußstr. 25 \, 22765 Hamburg-Altona
DTSTAMP:20260423T230414
SUMMARY:Alex Gabbay: Fairness – Zum Verständnis von Gerechtigkeit
URL;VALUE=URI:https://www.kultur-hamburg.de/veranstaltungen/alex-gabbay-fairness--zum-verstaendnis-von-gerechtigkeit-420390
DESCRIPTION:Film (2017, 77 Min, Engl. mit dt. UT) + Gespräch
Mit Naemi Eifler – Institut für Social Justice & Radical Diversity
UID:7dc6d6f66ff7d2bd47f2dd6e09abbde0@kulturhamburg
END:VEVENT
END:VCALENDAR