BEGIN:VCALENDAR
VERSION:2.0
PRODID:-//STADTKULTUR HAMBURG//kultur-hamburg.de///DE
CALSCALE:GREGORIAN
BEGIN:VEVENT
X-WR-TIMEZONE:Europe/Berlin
DTSTART:20190328T200000
DTEND:20190328T220000
LOCATION:The Old Dubliner - Irish Pub \, Neue Straße 56-58 \,  Hamburg
DTSTAMP:20260422T002758
SUMMARY:Irish Folk Session
URL;VALUE=URI:https://www.kultur-hamburg.de/veranstaltungen/irish-folk-session-420529
DESCRIPTION:Organisiert wird diese Irish Folk Session mit einer guten Mischung aus Tunes und Songs.

Wir   würde...
UID:0165d09530f958f2a6fb547e6b118edd@kulturhamburg
END:VEVENT
END:VCALENDAR