BEGIN:VCALENDAR
VERSION:2.0
PRODID:-//STADTKULTUR HAMBURG//kultur-hamburg.de///DE
CALSCALE:GREGORIAN
BEGIN:VEVENT
X-WR-TIMEZONE:Europe/Berlin
DTSTART:20190404T200000
DTEND:20190404T223000
LOCATION:Zinnschmelze \, Maurienstraße 19 \, 22305 Hamburg
DTSTAMP:20260421T134455
SUMMARY:Sofia Talvik & Friends
URL;VALUE=URI:https://www.kultur-hamburg.de/veranstaltungen/sofia-talvik-&-friends-420558
DESCRIPTION:Amerikanische Volksmusik mit Schwedischen Wurzeln
UID:eeedb57749eacab651452cca0d8171ab@kulturhamburg
END:VEVENT
END:VCALENDAR