BEGIN:VCALENDAR
VERSION:2.0
PRODID:-//STADTKULTUR HAMBURG//kultur-hamburg.de///DE
CALSCALE:GREGORIAN
BEGIN:VEVENT
X-WR-TIMEZONE:Europe/Berlin
DTSTART:20190405T180000
DTEND:20190405T193000
LOCATION:
DTSTAMP:20260421T121843
SUMMARY:Unser täglich Plastik
URL;VALUE=URI:https://www.kultur-hamburg.de/veranstaltungen/unser-taeglich-plastik-420744
DESCRIPTION:VHS-Workshop mit Barbara Flügge von One Earth - One Ocean e.V.
UID:a047e353a0bb0f29f640c86154d1aa2c@kulturhamburg
END:VEVENT
END:VCALENDAR