BEGIN:VCALENDAR
VERSION:2.0
PRODID:-//STADTKULTUR HAMBURG//kultur-hamburg.de///DE
CALSCALE:GREGORIAN
BEGIN:VEVENT
X-WR-TIMEZONE:Europe/Berlin
DTSTART:20190903T163000
DTEND:20190903T190000
LOCATION:W3_ \, Nernstweg 32-34 \, 22765 Hamburg
DTSTAMP:20260423T001953
SUMMARY:Jubel.Trubel. Weiter! Eröffnung des W3_Jubiläums
URL;VALUE=URI:https://www.kultur-hamburg.de/veranstaltungen/jubel.trubel.-weiter!-eroeffnung-des-w3_jubilaeums-421435
DESCRIPTION:Mit Kultursenator Carsten Brosda & bauchladen
monopol. Anmeldung an info@w3-hamburg.de
UID:4e1612a7a3ee589a493ca6286d4bbb1e@kulturhamburg
END:VEVENT
END:VCALENDAR