BEGIN:VCALENDAR
VERSION:2.0
PRODID:-//STADTKULTUR HAMBURG//kultur-hamburg.de///DE
CALSCALE:GREGORIAN
BEGIN:VEVENT
X-WR-TIMEZONE:Europe/Berlin
DTSTART:20190323T193000
DTEND:20190323T213000
LOCATION:PEM Theater an den Elbbrücken \, Reginenstraße 18 \, 20539 Hamburg
DTSTAMP:20260422T091340
SUMMARY:COVER YOUR SOUL
URL;VALUE=URI:https://www.kultur-hamburg.de/veranstaltungen/cover-your-soul-421808
DESCRIPTION:Lassen Sie sich entführen in einen Konzertabend voller Momente musikalischer Magie mit Welthits von Joe Cocker, Amy Winehouse, Tina Turner, Aretha Franklin, Metallica und vielen Anderen großen Interpreten.
UID:5f1b3f18f28b10cb31fd09650d2c1053@kulturhamburg
END:VEVENT
END:VCALENDAR