BEGIN:VCALENDAR
VERSION:2.0
PRODID:-//STADTKULTUR HAMBURG//kultur-hamburg.de///DE
CALSCALE:GREGORIAN
BEGIN:VEVENT
X-WR-TIMEZONE:Europe/Berlin
DTSTART:20190321T160000
DTEND:20190321T180000
LOCATION:Goldbekhaus \, Moorfuhrtweg 9 \, 22301 Hamburg
DTSTAMP:20260422T122008
SUMMARY:Lesenest für kleine Ohren
URL;VALUE=URI:https://www.kultur-hamburg.de/veranstaltungen/lesenest-fuer-kleine-ohren-422905
DESCRIPTION:Kindergeschichten lauschen.
UID:7a902739150c5b0fcf44d8c74ccfba80@kulturhamburg
END:VEVENT
END:VCALENDAR