BEGIN:VCALENDAR
VERSION:2.0
PRODID:-//STADTKULTUR HAMBURG//kultur-hamburg.de///DE
CALSCALE:GREGORIAN
BEGIN:VEVENT
X-WR-TIMEZONE:Europe/Berlin
DTSTART:20190324T150000
DTEND:20190324T170000
LOCATION:Goldbekhaus \, Moorfuhrtweg 9 \, 22301 Hamburg
DTSTAMP:20260422T072735
SUMMARY:Tetje Mierendorf: Halbfettzeit
URL;VALUE=URI:https://www.kultur-hamburg.de/veranstaltungen/tetje-mierendorf-halbfettzeit-422907
DESCRIPTION:Charmante, lehrreiche und authentische Lesung – nicht nur für Übergewichtige.
UID:24713bc338549ff76d2207d8c57ed05b@kulturhamburg
END:VEVENT
END:VCALENDAR