BEGIN:VCALENDAR
VERSION:2.0
PRODID:-//STADTKULTUR HAMBURG//kultur-hamburg.de///DE
CALSCALE:GREGORIAN
BEGIN:VEVENT
X-WR-TIMEZONE:Europe/Berlin
DTSTART:20190329T200000
DTEND:20190329T220000
LOCATION:Goldbekhaus \, Moorfuhrtweg 9 \, 22301 Hamburg
DTSTAMP:20260421T231705
SUMMARY:Jörg Schumacher: Lügenpresse
URL;VALUE=URI:https://www.kultur-hamburg.de/veranstaltungen/joerg-schumacher-luegenpresse-422908
DESCRIPTION:Was wird uns verschwiegen?
UID:e5446bee6aaebc0fdbc624dcc3193f88@kulturhamburg
END:VEVENT
END:VCALENDAR