BEGIN:VCALENDAR
VERSION:2.0
PRODID:-//STADTKULTUR HAMBURG//kultur-hamburg.de///DE
CALSCALE:GREGORIAN
BEGIN:VEVENT
X-WR-TIMEZONE:Europe/Berlin
DTSTART:20190330T200000
DTEND:20190330T220000
LOCATION:Goldbekhaus \, Moorfuhrtweg 9 \, 22301 Hamburg
DTSTAMP:20260421T213910
SUMMARY:theater noster: Erdbeben in london
URL;VALUE=URI:https://www.kultur-hamburg.de/veranstaltungen/theater-noster-erdbeben-in-london-422909
DESCRIPTION:Bitter. Böse. Amüsant.
UID:c1f102c88c24eace0d27b32098932957@kulturhamburg
END:VEVENT
END:VCALENDAR