BEGIN:VCALENDAR
VERSION:2.0
PRODID:-//STADTKULTUR HAMBURG//kultur-hamburg.de///DE
CALSCALE:GREGORIAN
BEGIN:VEVENT
X-WR-TIMEZONE:Europe/Berlin
DTSTART:20190824T200000
DTEND:20190824T213000
LOCATION:
DTSTAMP:20260420T073944
SUMMARY:"Hamburg und wir" - Luv & Lee Improvisationstheater
URL;VALUE=URI:https://www.kultur-hamburg.de/veranstaltungen/hamburg-und-wir-luv-&-lee-improvisationstheater-422917
DESCRIPTION:Die schönste Stadt in Szenen
UID:56ca6560c0252e9c325348d4a9b0f96c@kulturhamburg
END:VEVENT
END:VCALENDAR