BEGIN:VCALENDAR
VERSION:2.0
PRODID:-//STADTKULTUR HAMBURG//kultur-hamburg.de///DE
CALSCALE:GREGORIAN
BEGIN:VEVENT
X-WR-TIMEZONE:Europe/Berlin
DTSTART:20190405T200000
DTEND:20190405T220000
LOCATION:Goldbekhaus \, Moorfuhrtweg 9 \, 22301 Hamburg
DTSTAMP:20260421T121843
SUMMARY:Sonja Gründemann: Typisch Frau?!
URL;VALUE=URI:https://www.kultur-hamburg.de/veranstaltungen/sonja-gruendemann-typisch-frau!-422932
DESCRIPTION:Amüsante Musikeinlagen und Geschichten aus der "Frauenwelt"
UID:9cc3d4707bcc259f3594fe87eecbf1ae@kulturhamburg
END:VEVENT
END:VCALENDAR