BEGIN:VCALENDAR
VERSION:2.0
PRODID:-//STADTKULTUR HAMBURG//kultur-hamburg.de///DE
CALSCALE:GREGORIAN
BEGIN:VEVENT
X-WR-TIMEZONE:Europe/Berlin
DTSTART:20190323T193000
DTEND:20190323T220000
LOCATION:Horner Freiheit \, Am Gojenboom 46 \, 22111 Hamburg
DTSTAMP:20260422T091340
SUMMARY:Konzert Hazel Bell
URL;VALUE=URI:https://www.kultur-hamburg.de/veranstaltungen/konzert-hazel-bell-423082
DESCRIPTION:Endlich zurück in Horn! Hazel Bell kommen wieder zusammen und spielen einen ganzen Abend besten Folk.
UID:aec6582fec78eb4159c1304d0fb7d8d1@kulturhamburg
END:VEVENT
END:VCALENDAR