BEGIN:VCALENDAR
VERSION:2.0
PRODID:-//STADTKULTUR HAMBURG//kultur-hamburg.de///DE
CALSCALE:GREGORIAN
BEGIN:VEVENT
X-WR-TIMEZONE:Europe/Berlin
DTSTART:20190322T180000
DTEND:20190322T190000
LOCATION:FUNDUS THEATER \, Sievekingdamm 3 - Platz der Kinderrechte \, 20535 Hamburg
DTSTAMP:20260422T111118
SUMMARY:MEHR LICHT!
URL;VALUE=URI:https://www.kultur-hamburg.de/veranstaltungen/mehr-licht!-423934
DESCRIPTION:FUNDUS THEATER für Kinder ab 3 bis 10 Jahre und Erwachsene
UID:3e3da7a6f4748b762bcfddbf07f39469@kulturhamburg
END:VEVENT
END:VCALENDAR