BEGIN:VCALENDAR
VERSION:2.0
PRODID:-//STADTKULTUR HAMBURG//kultur-hamburg.de///DE
CALSCALE:GREGORIAN
BEGIN:VEVENT
X-WR-TIMEZONE:Europe/Berlin
DTSTART:20190323T160000
DTEND:20190323T170000
LOCATION:FUNDUS THEATER \, Sievekingdamm 3 - Platz der Kinderrechte \, 20535 Hamburg
DTSTAMP:20260422T091149
SUMMARY:MEHR LICHT!
URL;VALUE=URI:https://www.kultur-hamburg.de/veranstaltungen/mehr-licht!-423935
DESCRIPTION:FUNDUS THEATER für Kinder ab 3 bis 10 Jahre und Erwachsene
UID:a26b2c02c7d98d9712b621d3e9d56a97@kulturhamburg
END:VEVENT
END:VCALENDAR