BEGIN:VCALENDAR
VERSION:2.0
PRODID:-//STADTKULTUR HAMBURG//kultur-hamburg.de///DE
CALSCALE:GREGORIAN
BEGIN:VEVENT
X-WR-TIMEZONE:Europe/Berlin
DTSTART:20190324T110000
DTEND:20190324T120000
LOCATION:FUNDUS THEATER \, Sievekingdamm 3 - Platz der Kinderrechte \, 20535 Hamburg
DTSTAMP:20260422T072200
SUMMARY:MEHR LICHT!
URL;VALUE=URI:https://www.kultur-hamburg.de/veranstaltungen/mehr-licht!-423936
DESCRIPTION:FUNDUS THEATER für Kinder ab 3 bis 10 Jahre und Erwachsene
UID:078c825a7aa419b4297dd33a3a8e5bd9@kulturhamburg
END:VEVENT
END:VCALENDAR