BEGIN:VCALENDAR
VERSION:2.0
PRODID:-//STADTKULTUR HAMBURG//kultur-hamburg.de///DE
CALSCALE:GREGORIAN
BEGIN:VEVENT
X-WR-TIMEZONE:Europe/Berlin
DTSTART:20190329T210000
DTEND:20190329T230000
LOCATION:Stellwerk \, Hannoversche Straße 85 \, 21079 Hamburg
DTSTAMP:20260421T230931
SUMMARY:Vol:15 BRC BattleRapCypher//HAMBURG
URL;VALUE=URI:https://www.kultur-hamburg.de/veranstaltungen/vol15-brc-battlerapcypherhamburg-424119
DESCRIPTION:
UID:d4ed31f18c55e29610ab582e8d904d37@kulturhamburg
END:VEVENT
END:VCALENDAR