BEGIN:VCALENDAR
VERSION:2.0
PRODID:-//STADTKULTUR HAMBURG//kultur-hamburg.de///DE
CALSCALE:GREGORIAN
BEGIN:VEVENT
X-WR-TIMEZONE:Europe/Berlin
DTSTART:20190322T193000
DTEND:20190322T220000
LOCATION:Theaterdeck in der Zinnschmelze \, Maurienstr. 19 \, 22305 Hamburg
DTSTAMP:20260422T111117
SUMMARY:Novecento - Die Legende vom Ozeanpianisten
URL;VALUE=URI:https://www.kultur-hamburg.de/veranstaltungen/novecento-die-legende-vom-ozeanpianisten-424725
DESCRIPTION:„Stell dir vor: ein Klavier. Die Tasten fangen an. Die Tasten hören auf."
UID:55e921eaa6b063f78ba98b59708a4b1b@kulturhamburg
END:VEVENT
END:VCALENDAR