BEGIN:VCALENDAR
VERSION:2.0
PRODID:-//STADTKULTUR HAMBURG//kultur-hamburg.de///DE
CALSCALE:GREGORIAN
BEGIN:VEVENT
X-WR-TIMEZONE:Europe/Berlin
DTSTART:20190324T193000
DTEND:20190324T220000
LOCATION:Theaterdeck in der Zinnschmelze \, Maurienstr. 19 \, 22305 Hamburg
DTSTAMP:20260422T072827
SUMMARY:Novecento - Die Legende vom Ozeanpianisten
URL;VALUE=URI:https://www.kultur-hamburg.de/veranstaltungen/novecento-die-legende-vom-ozeanpianisten-424788
DESCRIPTION:„Stell dir vor: ein Klavier. Die Tasten fangen an. Die Tasten hören auf."
UID:936416c0652c095184aee2c2e1f73c65@kulturhamburg
END:VEVENT
END:VCALENDAR