BEGIN:VCALENDAR
VERSION:2.0
PRODID:-//STADTKULTUR HAMBURG//kultur-hamburg.de///DE
CALSCALE:GREGORIAN
BEGIN:VEVENT
X-WR-TIMEZONE:Europe/Berlin
DTSTART:20190322T193000
DTEND:20190322T223000
LOCATION:A.G.D.A.Z. Stadtteiltreff \, Gropiusring 43a \, 22309 Hamburg
DTSTAMP:20260422T105822
SUMMARY:Frisches Blut. Deutsche Geschichten - Doris Gercke
URL;VALUE=URI:https://www.kultur-hamburg.de/veranstaltungen/frisches-blut.-deutsche-geschichten-doris-gercke-424873
DESCRIPTION:Lesung mit Doris Gercke
UID:451086f8798b0a34b24cbead003d741b@kulturhamburg
END:VEVENT
END:VCALENDAR