BEGIN:VCALENDAR
VERSION:2.0
PRODID:-//STADTKULTUR HAMBURG//kultur-hamburg.de///DE
CALSCALE:GREGORIAN
BEGIN:VEVENT
X-WR-TIMEZONE:Europe/Berlin
DTSTART:20190329T193000
DTEND:20190329T223000
LOCATION:A.G.D.A.Z. Stadtteiltreff \, Gropiusring 43a \, 22309 Hamburg
DTSTAMP:20260421T230937
SUMMARY:Bilan -Das Konzert (Kape Verde)
URL;VALUE=URI:https://www.kultur-hamburg.de/veranstaltungen/bilan-das-konzert-kape-verde-424874
DESCRIPTION:Stimme und Gitarre zum Schmelzen
UID:9fb28ffd1f3d05efebafc9795d64eddb@kulturhamburg
END:VEVENT
END:VCALENDAR