BEGIN:VCALENDAR
VERSION:2.0
PRODID:-//STADTKULTUR HAMBURG//kultur-hamburg.de///DE
CALSCALE:GREGORIAN
BEGIN:VEVENT
X-WR-TIMEZONE:Europe/Berlin
DTSTART:20190912T200000
DTEND:20190912T230000
LOCATION:KUNSTKLINIK \, Martinistraße 44a \, 20251 Hamburg
DTSTAMP:20260423T152118
SUMMARY:Dünnes Eis: Improtheater
URL;VALUE=URI:https://www.kultur-hamburg.de/veranstaltungen/duennes-eis-improtheater-425787
DESCRIPTION:
UID:17897de4aee4acaaa70e4460504a8085@kulturhamburg
END:VEVENT
END:VCALENDAR