BEGIN:VCALENDAR
VERSION:2.0
PRODID:-//STADTKULTUR HAMBURG//kultur-hamburg.de///DE
CALSCALE:GREGORIAN
BEGIN:VEVENT
X-WR-TIMEZONE:Europe/Berlin
DTSTART:20190328T203000
DTEND:20190328T230000
LOCATION:Goldbekhaus \, Moorfuhrtweg 9 \, 22301 Hamburg
DTSTAMP:20260422T004445
SUMMARY:Ljodahått | Nordic Poetic Folk Rock
URL;VALUE=URI:https://www.kultur-hamburg.de/veranstaltungen/ljodahtt--nordic-poetic-folk-rock-425793
DESCRIPTION:Norwegische Literatur von der Edda bis Ibsen, stimmgewaltig und bezaubernd, derb und originell vertont
UID:99e3fc93bb7b594d5b5e7a047c38fafe@kulturhamburg
END:VEVENT
END:VCALENDAR