BEGIN:VCALENDAR
VERSION:2.0
PRODID:-//STADTKULTUR HAMBURG//kultur-hamburg.de///DE
CALSCALE:GREGORIAN
BEGIN:VEVENT
X-WR-TIMEZONE:Europe/Berlin
DTSTART:20190816T193000
DTEND:20190816T220000
LOCATION:Horner Freiheit \, Am Gojenboom 46 \, 22111 Hamburg
DTSTAMP:20260419T182104
SUMMARY:Heinrich und Konsorten
URL;VALUE=URI:https://www.kultur-hamburg.de/veranstaltungen/heinrich-und-konsorten-426252
DESCRIPTION:Heinrich und Konsorten machen deutsche Musik: Pop, Rock, Latin, Swing. Selbstgeschrieben, melodisch und originell. Feiern Sie bei uns im Sommerkonzert mit Heinz Bußmann und seinen Konsorten.
UID:5f893699d2c0b7e74e1a1dd6947407cf@kulturhamburg
END:VEVENT
END:VCALENDAR