BEGIN:VCALENDAR
VERSION:2.0
PRODID:-//STADTKULTUR HAMBURG//kultur-hamburg.de///DE
CALSCALE:GREGORIAN
BEGIN:VEVENT
X-WR-TIMEZONE:Europe/Berlin
DTSTART:20190330T110000
DTEND:20190330T140000
LOCATION:Stadtteilhaus Lurup \, Luruper Hauptstraße 155 \, 22547 Hamburg
DTSTAMP:20260421T213910
SUMMARY:Kinderkleidermarkt
URL;VALUE=URI:https://www.kultur-hamburg.de/veranstaltungen/kinderkleidermarkt-426322
DESCRIPTION:Kinderkleider ab Größe 50 bis Teeniekleidung, Zubehör und Spielzeug. Mit Caféteria und Malecke.
UID:441d754eb9e6c2eeffc23bdcaf02d8f9@kulturhamburg
END:VEVENT
END:VCALENDAR