BEGIN:VCALENDAR
VERSION:2.0
PRODID:-//STADTKULTUR HAMBURG//kultur-hamburg.de///DE
CALSCALE:GREGORIAN
BEGIN:VEVENT
X-WR-TIMEZONE:Europe/Berlin
DTSTART:20191219T200000
DTEND:20191219T220000
LOCATION:KUNSTKLINIK \, Martinistraße 44a \, 20251 Hamburg
DTSTAMP:20260422T103918
SUMMARY:A Christmas Carol by Charles Dickens - Weihnachtsgeschichte mit kleinem Fest
URL;VALUE=URI:https://www.kultur-hamburg.de/veranstaltungen/a-christmas-carol-by-charles-dickens-weihnachtsgeschichte-mit-kleinem-fest-426708
DESCRIPTION:
UID:3dff4e5e3b7001445ac74e91ad036fec@kulturhamburg
END:VEVENT
END:VCALENDAR