BEGIN:VCALENDAR
VERSION:2.0
PRODID:-//STADTKULTUR HAMBURG//kultur-hamburg.de///DE
CALSCALE:GREGORIAN
BEGIN:VEVENT
X-WR-TIMEZONE:Europe/Berlin
DTSTART:20190321T200000
DTEND:20190321T220000
LOCATION:LOLA Kulturzentrum \, Lohbrügger Landstraße 8 \, 21031 Hamburg
DTSTAMP:20260422T122020
SUMMARY:Steife Brise vs. Landsbühne Senftenberg
URL;VALUE=URI:https://www.kultur-hamburg.de/veranstaltungen/steife-brise-vs.-landsbuehne-senftenberg-426714
DESCRIPTION:"Heul doch" - Theatersport
UID:5befa5aab58b5c62a50f7b4108756ece@kulturhamburg
END:VEVENT
END:VCALENDAR