BEGIN:VCALENDAR
VERSION:2.0
PRODID:-//STADTKULTUR HAMBURG//kultur-hamburg.de///DE
CALSCALE:GREGORIAN
BEGIN:VEVENT
X-WR-TIMEZONE:Europe/Berlin
DTSTART:20190322T200000
DTEND:20190322T220000
LOCATION:Kuller \, Mittlerer Landweg 78 \, 21033 Hamburg
DTSTAMP:20260422T105906
SUMMARY:Hello World! Bergedorfer Global Session
URL;VALUE=URI:https://www.kultur-hamburg.de/veranstaltungen/hello-world!-bergedorfer-global-session-426715
DESCRIPTION:On tour - im Kuller
UID:dfcc64f683f1100f87b6a82016b5b7a0@kulturhamburg
END:VEVENT
END:VCALENDAR