BEGIN:VCALENDAR
VERSION:2.0
PRODID:-//STADTKULTUR HAMBURG//kultur-hamburg.de///DE
CALSCALE:GREGORIAN
BEGIN:VEVENT
X-WR-TIMEZONE:Europe/Berlin
DTSTART:20190322T200000
DTEND:20190322T220000
LOCATION:LOLA Kulturzentrum \, Lohbrügger Landstraße 8 \, 21031 Hamburg
DTSTAMP:20260422T111117
SUMMARY:Vera Deckers
URL;VALUE=URI:https://www.kultur-hamburg.de/veranstaltungen/vera-deckers-426716
DESCRIPTION:„Wenn die Narzissten wieder blühen“
UID:c7b7259ee147112a4effb29be4471e95@kulturhamburg
END:VEVENT
END:VCALENDAR