BEGIN:VCALENDAR
VERSION:2.0
PRODID:-//STADTKULTUR HAMBURG//kultur-hamburg.de///DE
CALSCALE:GREGORIAN
BEGIN:VEVENT
X-WR-TIMEZONE:Europe/Berlin
DTSTART:20190322T200000
DTEND:20190322T220000
LOCATION:KulturKlinker Barmbek e.V. \, Lorichsstraße 28 a \, 22307 Hamburg
DTSTAMP:20260422T105849
SUMMARY:Boasters-Revival-Konzert
URL;VALUE=URI:https://www.kultur-hamburg.de/veranstaltungen/boasters-revival-konzert-426969
DESCRIPTION:Weil‘s so klasse ist! Dieses Jahr zum vierten Mal: Die Barmbeker Band aus den Sechzigern ist wieder da!
UID:c2a8ef52f15ff43d848c71116854b509@kulturhamburg
END:VEVENT
END:VCALENDAR