BEGIN:VCALENDAR
VERSION:2.0
PRODID:-//STADTKULTUR HAMBURG//kultur-hamburg.de///DE
CALSCALE:GREGORIAN
BEGIN:VEVENT
X-WR-TIMEZONE:Europe/Berlin
DTSTART:20190324T110000
DTEND:20190324T140000
LOCATION:KulturKlinker Barmbek e.V. \, Lorichsstraße 28 a \, 22307 Hamburg
DTSTAMP:20260422T072914
SUMMARY:Dabke Dance und Mitbring-Lunch
URL;VALUE=URI:https://www.kultur-hamburg.de/veranstaltungen/dabke-dance-und-mitbring-lunch-426970
DESCRIPTION:„Dabke“ bedeutet so viel wie „Mit-den-Füßen-auf-den-Boden-Stampfen“. Es ist ein orientalischer Folkloretanz.
UID:3d3a57c685d38a5c504d113a9dc733c0@kulturhamburg
END:VEVENT
END:VCALENDAR