BEGIN:VCALENDAR
VERSION:2.0
PRODID:-//STADTKULTUR HAMBURG//kultur-hamburg.de///DE
CALSCALE:GREGORIAN
BEGIN:VEVENT
X-WR-TIMEZONE:Europe/Berlin
DTSTART:20190324T153000
DTEND:20190324T173000
LOCATION:KulturKlinker Barmbek e.V. \, Lorichsstraße 28 a \, 22307 Hamburg
DTSTAMP:20260422T072826
SUMMARY:Wäsche: anziehend, wehend, wohltuend, duftend, erfrischend … und Wasser
URL;VALUE=URI:https://www.kultur-hamburg.de/veranstaltungen/waesche-anziehend-wehend-wohltuend-duftend-erfrischend--und-wasser-427033
DESCRIPTION:Bilder von Ilona Edler Von der Planitz  – Wenn es um Wäsche geht, ist oft das Wasser nicht weit.
UID:1eca20a852828337f7efe8c5f4840074@kulturhamburg
END:VEVENT
END:VCALENDAR