BEGIN:VCALENDAR
VERSION:2.0
PRODID:-//STADTKULTUR HAMBURG//kultur-hamburg.de///DE
CALSCALE:GREGORIAN
BEGIN:VEVENT
X-WR-TIMEZONE:Europe/Berlin
DTSTART:20190331T160000
DTEND:20190331T180000
LOCATION:KulturKlinker Barmbek e.V. \, Lorichsstraße 28 a \, 22307 Hamburg
DTSTAMP:20260421T200318
SUMMARY:Wenn schon falsch, dann richtig!
URL;VALUE=URI:https://www.kultur-hamburg.de/veranstaltungen/wenn-schon-falsch-dann-richtig!-427034
DESCRIPTION:Komödie von André Fritsche mit Weberknechtbühne – Eine turbulente und aberwitzige Komödie!
UID:c845869206b62f0e7826dde96ccc9c4c@kulturhamburg
END:VEVENT
END:VCALENDAR