BEGIN:VCALENDAR
VERSION:2.0
PRODID:-//STADTKULTUR HAMBURG//kultur-hamburg.de///DE
CALSCALE:GREGORIAN
BEGIN:VEVENT
X-WR-TIMEZONE:Europe/Berlin
DTSTART:20190322T193000
DTEND:20190322T213000
LOCATION:Kulturhaus Süderelbe \, Am Johannisland 2 \, 21147 Hamburg
DTSTAMP:20260422T105822
SUMMARY:Werner Pfeifer: Hafenballaden, Chansons, Blues und Geschichten
URL;VALUE=URI:https://www.kultur-hamburg.de/veranstaltungen/werner-pfeifer-hafenballaden-chansons-blues-und-geschichten-427768
DESCRIPTION:Harburgs Hafenbarde kommt nach Neugraben! Der Wohnschiffer, Journalist und Musiker Werner Pfeifer st...
UID:d86f17ab16872064d903a815a62d7513@kulturhamburg
END:VEVENT
END:VCALENDAR