BEGIN:VCALENDAR
VERSION:2.0
PRODID:-//STADTKULTUR HAMBURG//kultur-hamburg.de///DE
CALSCALE:GREGORIAN
BEGIN:VEVENT
X-WR-TIMEZONE:Europe/Berlin
DTSTART:20190331T130000
DTEND:20190331T160000
LOCATION:LOLA Kulturzentrum \, Lohbrügger Landstraße 8 \, 21031 Hamburg
DTSTAMP:20260421T200202
SUMMARY:22. Frauen Flohmarkt
URL;VALUE=URI:https://www.kultur-hamburg.de/veranstaltungen/22.-frauen-flohmarkt-427981
DESCRIPTION:Trend-und Markenmode, Accessoires
UID:eaf13017e5970709c47d2f3f520aa84c@kulturhamburg
END:VEVENT
END:VCALENDAR