BEGIN:VCALENDAR
VERSION:2.0
PRODID:-//STADTKULTUR HAMBURG//kultur-hamburg.de///DE
CALSCALE:GREGORIAN
BEGIN:VEVENT
X-WR-TIMEZONE:Europe/Berlin
DTSTART:20190403T103000
DTEND:20190403T123000
LOCATION:LOLA Kulturzentrum \, Lohbrügger Landstraße 8 \, 21031 Hamburg
DTSTAMP:20260421T152158
SUMMARY:Christiane Kampwirth
URL;VALUE=URI:https://www.kultur-hamburg.de/veranstaltungen/christiane-kampwirth-427982
DESCRIPTION:"fünfter sein"
UID:93e5b43b57fdf442ff679434fc2135ff@kulturhamburg
END:VEVENT
END:VCALENDAR