BEGIN:VCALENDAR
VERSION:2.0
PRODID:-//STADTKULTUR HAMBURG//kultur-hamburg.de///DE
CALSCALE:GREGORIAN
BEGIN:VEVENT
X-WR-TIMEZONE:Europe/Berlin
DTSTART:20190824T200000
DTEND:20190824T223000
LOCATION:KulturWerkstatt Harburg e.V. \, Kanalplatz 6 \, 21079 Hamburg
DTSTAMP:20260420T073826
SUMMARY:The Rumprollers bei der KWH JazzStage
URL;VALUE=URI:https://www.kultur-hamburg.de/veranstaltungen/the-rumprollers-bei-der-kwh-jazzstage-428003
DESCRIPTION:
UID:5ac8402a290479a8631d06c9f17f2618@kulturhamburg
END:VEVENT
END:VCALENDAR