BEGIN:VCALENDAR
VERSION:2.0
PRODID:-//STADTKULTUR HAMBURG//kultur-hamburg.de///DE
CALSCALE:GREGORIAN
BEGIN:VEVENT
X-WR-TIMEZONE:Europe/Berlin
DTSTART:20190329T203000
DTEND:20190329T234500
LOCATION:Schule Meerweinstraße \, Meerweinstraße 26 \, 22303 Hamburg
DTSTAMP:20260421T230758
SUMMARY:Tanz Intakt
URL;VALUE=URI:https://www.kultur-hamburg.de/veranstaltungen/tanz-intakt-428076
DESCRIPTION:Für alle Fans von Walzer, Foxtrott, Cha Cha Cha.
UID:129445c00e88bdf68056f295d5ac98fd@kulturhamburg
END:VEVENT
END:VCALENDAR