BEGIN:VCALENDAR
VERSION:2.0
PRODID:-//STADTKULTUR HAMBURG//kultur-hamburg.de///DE
CALSCALE:GREGORIAN
BEGIN:VEVENT
X-WR-TIMEZONE:Europe/Berlin
DTSTART:20190819T190000
DTEND:20190819T210000
LOCATION:Reh. Raum für Selbst Machen \, Rehhoffstraße 1-3 \, 20459 Hamburg
DTSTAMP:20260419T230222
SUMMARY:Simone Buchholz mit "Mexikoring" zur Benefiz - Lesung im Ledigenheim
URL;VALUE=URI:https://www.kultur-hamburg.de/veranstaltungen/simone-buchholz-mit-mexikoring-zur-benefiz-lesung-im-ledigenheim-428173
DESCRIPTION:
UID:f744de51ed29073a26366ced13c8c623@kulturhamburg
END:VEVENT
END:VCALENDAR