BEGIN:VCALENDAR
VERSION:2.0
PRODID:-//STADTKULTUR HAMBURG//kultur-hamburg.de///DE
CALSCALE:GREGORIAN
BEGIN:VEVENT
X-WR-TIMEZONE:Europe/Berlin
DTSTART:20111029T100000
DTEND:20111029T180000
LOCATION:KulturKlinker Barmbek e.V. \, Lorichsstraße 28 a \, 22307 Hamburg
DTSTAMP:20260423T072057
SUMMARY:Gewaltfreie Kommunkation – 2-Tage-Workshop
URL;VALUE=URI:https://www.kultur-hamburg.de/kurse_workshops/gewaltfreie-kommunkation--2-tage-workshop-43118
DESCRIPTION:Die Kursleiterin, Christel Sohnemann, ist ausgebildete Trainerin für GFK und Coach in der Erwachsenenbildung.
UID:54ddb1258863028b097e1604ef10917c@kulturhamburg
END:VEVENT
END:VCALENDAR