BEGIN:VCALENDAR
VERSION:2.0
PRODID:-//STADTKULTUR HAMBURG//kultur-hamburg.de///DE
CALSCALE:GREGORIAN
BEGIN:VEVENT
X-WR-TIMEZONE:Europe/Berlin
DTSTART:20111022T100000
DTEND:20111022T160000
LOCATION:KulturKlinker Barmbek e.V. \, Lorichsstraße 28 a \, 22307 Hamburg
DTSTAMP:20260423T092609
SUMMARY:Humorvoll schreiben & spielen
URL;VALUE=URI:https://www.kultur-hamburg.de/kurse_workshops/humorvoll-schreiben-&-spielen-43120
DESCRIPTION:Kabarett- & Comedy-Workshop mit Renate Coch
UID:d6e5923ea9fe1d9fac4856e9bd7d926c@kulturhamburg
END:VEVENT
END:VCALENDAR