BEGIN:VCALENDAR
VERSION:2.0
PRODID:-//STADTKULTUR HAMBURG//kultur-hamburg.de///DE
CALSCALE:GREGORIAN
BEGIN:VEVENT
X-WR-TIMEZONE:Europe/Berlin
DTSTART:20190323T150000
DTEND:20190323T160000
LOCATION:MOTTE VERANSTALTUNGEN \, Rothestraße 48 \, 22765 Hamburg
DTSTAMP:20260422T091154
SUMMARY:KinderChorkonzert: MOTTE Rothekelchen
URL;VALUE=URI:https://www.kultur-hamburg.de/veranstaltungen/kinderchorkonzert-motte-rothekelchen-431472
DESCRIPTION:
UID:05272b5d72ceda1c3120dbbea841a3a9@kulturhamburg
END:VEVENT
END:VCALENDAR