BEGIN:VCALENDAR
VERSION:2.0
PRODID:-//STADTKULTUR HAMBURG//kultur-hamburg.de///DE
CALSCALE:GREGORIAN
BEGIN:VEVENT
X-WR-TIMEZONE:Europe/Berlin
DTSTART:20190322T193000
DTEND:20190322T213000
LOCATION:Kulturschloss Wandsbek \, Königsreihe 4 \, 22041 Hamburg
DTSTAMP:20260422T111117
SUMMARY:Krimispannung und Küstensushi – Kulinarische Lesung mit drei Stimmen
URL;VALUE=URI:https://www.kultur-hamburg.de/veranstaltungen/krimispannung-und-kuestensushi--kulinarische-lesung-mit-drei-stimmen-431615
DESCRIPTION:Wir bitten um Anmeldungen unter kontakt@kulturschloss-wandsbek.de, damit die Anzahl der Häppchen geplant werden kann.
UID:975b737df865a5a8a0c4475bea5c10b6@kulturhamburg
END:VEVENT
END:VCALENDAR