BEGIN:VCALENDAR
VERSION:2.0
PRODID:-//STADTKULTUR HAMBURG//kultur-hamburg.de///DE
CALSCALE:GREGORIAN
BEGIN:VEVENT
X-WR-TIMEZONE:Europe/Berlin
DTSTART:20190330T200000
DTEND:20190330T220000
LOCATION:Kulturschloss Wandsbek \, Königsreihe 4 \, 22041 Hamburg
DTSTAMP:20260421T214047
SUMMARY:Singing Sues – Gala-Chor-Konzert
URL;VALUE=URI:https://www.kultur-hamburg.de/veranstaltungen/singing-sues--gala-chor-konzert-431616
DESCRIPTION:Den Sängerinnen und Sängern rund um die aus Brasilien stammende Suely Lauar geht es um die Erzeugung von Gänsehaut.
UID:dbeb88af9d5eca25cdcd508a24356207@kulturhamburg
END:VEVENT
END:VCALENDAR