BEGIN:VCALENDAR
VERSION:2.0
PRODID:-//STADTKULTUR HAMBURG//kultur-hamburg.de///DE
CALSCALE:GREGORIAN
BEGIN:VEVENT
X-WR-TIMEZONE:Europe/Berlin
DTSTART:20190323T223000
DTEND:20190324T003000
LOCATION:Stellwerk \, Hannoversche Straße 85 \, 21079 Hamburg
DTSTAMP:20260422T091346
SUMMARY:10 Jahre Bench Birtday
URL;VALUE=URI:https://www.kultur-hamburg.de/veranstaltungen/10-jahre-bench-birtday-431810
DESCRIPTION:
UID:504dafbdca355961296ee8f82b592b69@kulturhamburg
END:VEVENT
END:VCALENDAR